BEGIN:VCALENDAR
VERSION:2.0
CALSCALE:GREGORIAN
PRODID:adamgibbons/ics
METHOD:PUBLISH
X-PUBLISHED-TTL:PT1H
BEGIN:VEVENT
UID:20424@offbeat.amsterdam
SUMMARY:Cruising Amsterdam Tour with Erik Wong
DTSTAMP:20260420T063736Z
DTSTART:20260426T140000Z
DTEND:20260426T153000Z
URL:https://offbeat.amsterdam/event/cruising-amsterdam-tour-with-erik-wong-
	1
LOCATION:No Limits! Art Castle - Sint Annendwarsstraat 9C\, 1012 HC Amsterd
	am
STATUS:CONFIRMED
CATEGORIES:amsterdam-centrum,oude kerk
END:VEVENT
END:VCALENDAR
